BEGIN:VCALENDAR
PRODID:-//eluceo/ical//2.0/EN
VERSION:2.0
CALSCALE:GREGORIAN
BEGIN:VEVENT
UID:5575df3611bb356472a8151ebbde441c
DTSTAMP:20260422T185642Z
SUMMARY:Martin Luther King\, Jr.  Parade & Celebration
DESCRIPTION:Jewish Federation of Greater Naples\nCommunity Calendar\nhttps:
 //jewishnaples.org/calendar/calendar16885\n\nMartin Luther King\, Jr.  Par
 ade & Celebration
DTSTART;TZID=America/New_York:20160118T100000
DTEND;TZID=America/New_York:20160118T100000
END:VEVENT
END:VCALENDAR
