BEGIN:VCALENDAR
PRODID:-//eluceo/ical//2.0/EN
VERSION:2.0
CALSCALE:GREGORIAN
BEGIN:VEVENT
UID:06fa2c73b18e9fb1e6f69b9c96c17938
DTSTAMP:20260422T190037Z
SUMMARY:BT  Sunday School
DESCRIPTION:Jewish Federation of Greater Naples\nCommunity Calendar\nhttps:
 //jewishnaples.org/calendar/calendar16876\n\nBT  Sunday School
DTSTART;TZID=America/New_York:20160117T090000
DTEND;TZID=America/New_York:20160117T090000
END:VEVENT
END:VCALENDAR
