BEGIN:VCALENDAR
PRODID:-//eluceo/ical//2.0/EN
VERSION:2.0
CALSCALE:GREGORIAN
BEGIN:VEVENT
UID:53bd4243de535223b405ac7905e752a0
DTSTAMP:20260424T081334Z
SUMMARY:MCA New Member Breakfast
DESCRIPTION:Jewish Federation of Greater Naples\nCommunity Calendar\nhttps:
 //jewishnaples.org/calendar/calendar16875\n\nMCA New Member Breakfast
DTSTART;TZID=America/New_York:20160117T083000
DTEND;TZID=America/New_York:20160117T083000
END:VEVENT
END:VCALENDAR
