BEGIN:VCALENDAR
PRODID:-//eluceo/ical//2.0/EN
VERSION:2.0
CALSCALE:GREGORIAN
BEGIN:VEVENT
UID:92d9506e5ad78a93186728534a92a878
DTSTAMP:20260424T013010Z
SUMMARY:TS Services
DESCRIPTION:Jewish Federation of Greater Naples\nCommunity Calendar\nhttps:
 //jewishnaples.org/calendar/calendar16873\n\nTS Services
DTSTART;TZID=America/New_York:20160116T100000
DTEND;TZID=America/New_York:20160116T100000
END:VEVENT
END:VCALENDAR
