BEGIN:VCALENDAR
PRODID:-//eluceo/ical//2.0/EN
VERSION:2.0
CALSCALE:GREGORIAN
BEGIN:VEVENT
UID:1569ee63262f8371a822a23f9adb4694
DTSTAMP:20260422T185652Z
SUMMARY:BT Service
DESCRIPTION:Jewish Federation of Greater Naples\nCommunity Calendar\nhttps:
 //jewishnaples.org/calendar/calendar16866\n\nBT Service
DTSTART;TZID=America/New_York:20160115T181500
DTEND;TZID=America/New_York:20160115T181500
END:VEVENT
END:VCALENDAR
