BEGIN:VCALENDAR
PRODID:-//eluceo/ical//2.0/EN
VERSION:2.0
CALSCALE:GREGORIAN
BEGIN:VEVENT
UID:e86a89f04dc728ad5ccff8b469ac3955
DTSTAMP:20260423T152839Z
SUMMARY:TS New Member Pot Luck Dinner
DESCRIPTION:Jewish Federation of Greater Naples\nCommunity Calendar\nhttps:
 //jewishnaples.org/calendar/calendar16865\n\nTS New Member Pot Luck Dinner
DTSTART;TZID=America/New_York:20160115T180000
DTEND;TZID=America/New_York:20160115T180000
END:VEVENT
END:VCALENDAR
