BEGIN:VCALENDAR
PRODID:-//eluceo/ical//2.0/EN
VERSION:2.0
CALSCALE:GREGORIAN
BEGIN:VEVENT
UID:de2d247bb5037fa0baad9f758a43d369
DTSTAMP:20260423T050746Z
SUMMARY:BBYO  Youth Activity
DESCRIPTION:Jewish Federation of Greater Naples\nCommunity Calendar\nhttps:
 //jewishnaples.org/calendar/calendar16863\n\nBBYO  Youth Activity
DTSTART;TZID=America/New_York:20160114T180000
DTEND;TZID=America/New_York:20160114T180000
END:VEVENT
END:VCALENDAR
