BEGIN:VCALENDAR
PRODID:-//eluceo/ical//2.0/EN
VERSION:2.0
CALSCALE:GREGORIAN
BEGIN:VEVENT
UID:6617c01125dd0c53b5a1e04d90283fa1
DTSTAMP:20260422T202723Z
SUMMARY:CHA  Hebrew School
DESCRIPTION:Jewish Federation of Greater Naples\nCommunity Calendar\nhttps:
 //jewishnaples.org/calendar/calendar16853\n\nCHA  Hebrew School
DTSTART;TZID=America/New_York:20160113T163000
DTEND;TZID=America/New_York:20160113T163000
END:VEVENT
END:VCALENDAR
