BEGIN:VCALENDAR
PRODID:-//eluceo/ical//2.0/EN
VERSION:2.0
CALSCALE:GREGORIAN
BEGIN:VEVENT
UID:8e0dc529aae6f5ac96dd83f55096bfa4
DTSTAMP:20260422T172048Z
SUMMARY:BT  Lecture Presentation
DESCRIPTION:Jewish Federation of Greater Naples\nCommunity Calendar\nhttps:
 //jewishnaples.org/calendar/calendar16847\n\nBT  Lecture Presentation
DTSTART;TZID=America/New_York:20160112T193000
DTEND;TZID=America/New_York:20160112T193000
END:VEVENT
END:VCALENDAR
