BEGIN:VCALENDAR
PRODID:-//eluceo/ical//2.0/EN
VERSION:2.0
CALSCALE:GREGORIAN
BEGIN:VEVENT
UID:7cee8b971da394069ef2bc7e79070936
DTSTAMP:20260422T172002Z
SUMMARY:BT  Rabbi's Study Course
DESCRIPTION:Jewish Federation of Greater Naples\nCommunity Calendar\nhttps:
 //jewishnaples.org/calendar/calendar16846\n\nBT  Rabbi's Study Course
DTSTART;TZID=America/New_York:20160112T160000
DTEND;TZID=America/New_York:20160112T160000
END:VEVENT
END:VCALENDAR
