BEGIN:VCALENDAR
PRODID:-//eluceo/ical//2.0/EN
VERSION:2.0
CALSCALE:GREGORIAN
BEGIN:VEVENT
UID:520f721ea499164e533e6fa20bd8ae77
DTSTAMP:20260424T120937Z
SUMMARY:Jewish Genealogy SIG
DESCRIPTION:Jewish Federation of Greater Naples\nCommunity Calendar\nhttps:
 //jewishnaples.org/calendar/calendar16841\n\nJewish Genealogy SIG
DTSTART;TZID=America/New_York:20160112T100000
DTEND;TZID=America/New_York:20160112T100000
END:VEVENT
END:VCALENDAR
