BEGIN:VCALENDAR
PRODID:-//eluceo/ical//2.0/EN
VERSION:2.0
CALSCALE:GREGORIAN
BEGIN:VEVENT
UID:9811decd2fc120afa41bd93306016785
DTSTAMP:20260423T180137Z
SUMMARY:JCMI  Bingo
DESCRIPTION:Jewish Federation of Greater Naples\nCommunity Calendar\nhttps:
 //jewishnaples.org/calendar/calendar16840\n\nJCMI  Bingo
DTSTART;TZID=America/New_York:20160111T173000
DTEND;TZID=America/New_York:20160111T173000
END:VEVENT
END:VCALENDAR
