BEGIN:VCALENDAR
PRODID:-//eluceo/ical//2.0/EN
VERSION:2.0
CALSCALE:GREGORIAN
BEGIN:VEVENT
UID:f80e1bf73f27a6b25332a9242d3868b2
DTSTAMP:20260422T214146Z
SUMMARY:NJC  Adult Enrichment
DESCRIPTION:Jewish Federation of Greater Naples\nCommunity Calendar\nhttps:
 //jewishnaples.org/calendar/calendar16834\n\nNJC  Adult Enrichment
DTSTART;TZID=America/New_York:20160110T103000
DTEND;TZID=America/New_York:20160110T103000
END:VEVENT
END:VCALENDAR
