BEGIN:VCALENDAR
PRODID:-//eluceo/ical//2.0/EN
VERSION:2.0
CALSCALE:GREGORIAN
BEGIN:VEVENT
UID:e69f03cb04c5d73dcf247e3273e1062e
DTSTAMP:20260423T130334Z
SUMMARY:BT  Rosh Chodesh Women's Group
DESCRIPTION:Jewish Federation of Greater Naples\nCommunity Calendar\nhttps:
 //jewishnaples.org/calendar/calendar16833\n\nBT  Rosh Chodesh Women's Grou
 p
DTSTART;TZID=America/New_York:20160110T100000
DTEND;TZID=America/New_York:20160110T100000
END:VEVENT
END:VCALENDAR
