BEGIN:VCALENDAR
PRODID:-//eluceo/ical//2.0/EN
VERSION:2.0
CALSCALE:GREGORIAN
BEGIN:VEVENT
UID:da664822034fba803d86e2e07cd41796
DTSTAMP:20260423T211055Z
SUMMARY:TS Sunday School
DESCRIPTION:Jewish Federation of Greater Naples\nCommunity Calendar\nhttps:
 //jewishnaples.org/calendar/calendar16832\n\nTS Sunday School
DTSTART;TZID=America/New_York:20160110T093000
DTEND;TZID=America/New_York:20160110T093000
END:VEVENT
END:VCALENDAR
