BEGIN:VCALENDAR
PRODID:-//eluceo/ical//2.0/EN
VERSION:2.0
CALSCALE:GREGORIAN
BEGIN:VEVENT
UID:889c4010a858bc7eae57ab5f5255bf17
DTSTAMP:20260423T054755Z
SUMMARY:BT Sunday Minyan
DESCRIPTION:Jewish Federation of Greater Naples\nCommunity Calendar\nhttps:
 //jewishnaples.org/calendar/calendar16831\n\nBT Sunday Minyan
DTSTART;TZID=America/New_York:20160110T090000
DTEND;TZID=America/New_York:20160110T090000
END:VEVENT
END:VCALENDAR
