BEGIN:VCALENDAR
PRODID:-//eluceo/ical//2.0/EN
VERSION:2.0
CALSCALE:GREGORIAN
BEGIN:VEVENT
UID:79944a2ff26ac6be9a9f926700f0d6cc
DTSTAMP:20260420T185258Z
SUMMARY:NJC Services
DESCRIPTION:Jewish Federation of Greater Naples\nCommunity Calendar\nhttps:
 //jewishnaples.org/calendar/calendar16822\n\nNJC Services
DTSTART;TZID=America/New_York:20160108T193000
DTEND;TZID=America/New_York:20160108T200000
END:VEVENT
END:VCALENDAR
