BEGIN:VCALENDAR
PRODID:-//eluceo/ical//2.0/EN
VERSION:2.0
CALSCALE:GREGORIAN
BEGIN:VEVENT
UID:6a8a21aa850840074535b8257a13e31b
DTSTAMP:20260423T181206Z
SUMMARY:JFCC Major Gift / Lion of Judah Event - TENTATIVE
DESCRIPTION:Jewish Federation of Greater Naples\nCommunity Calendar\nhttps:
 //jewishnaples.org/calendar/calendar16821\n\nJFCC Major Gift / Lion of Jud
 ah Event - TENTATIVE
DTSTART;TZID=America/New_York:20160107T180000
DTEND;TZID=America/New_York:20160107T180000
END:VEVENT
END:VCALENDAR
