BEGIN:VCALENDAR
PRODID:-//eluceo/ical//2.0/EN
VERSION:2.0
CALSCALE:GREGORIAN
BEGIN:VEVENT
UID:eaebbc2ca8fa89de49c01aeeb4df7260
DTSTAMP:20260423T184904Z
SUMMARY:TS  Rosh Chodesh
DESCRIPTION:Jewish Federation of Greater Naples\nCommunity Calendar\nhttps:
 //jewishnaples.org/calendar/calendar16819\n\nTS  Rosh Chodesh
DTSTART;TZID=America/New_York:20160107T173000
DTEND;TZID=America/New_York:20160107T173000
END:VEVENT
END:VCALENDAR
