BEGIN:VCALENDAR
PRODID:-//eluceo/ical//2.0/EN
VERSION:2.0
CALSCALE:GREGORIAN
BEGIN:VEVENT
UID:d5dd1f2a93b87e5cec895bb06bd22473
DTSTAMP:20260424T123135Z
SUMMARY:CJD Film Presentation
DESCRIPTION:Jewish Federation of Greater Naples\nCommunity Calendar\nhttps:
 //jewishnaples.org/calendar/calendar16814\n\nCJD Film Presentation
DTSTART;TZID=America/New_York:20160106T170000
DTEND;TZID=America/New_York:20160106T170000
END:VEVENT
END:VCALENDAR
