BEGIN:VCALENDAR
PRODID:-//eluceo/ical//2.0/EN
VERSION:2.0
CALSCALE:GREGORIAN
BEGIN:VEVENT
UID:50a2fdb8e9ed10d11d31546e9b886b23
DTSTAMP:20260423T062718Z
SUMMARY:JHSSWFL - Jewish History Month Event
DESCRIPTION:Jewish Federation of Greater Naples\nCommunity Calendar\nhttps:
 //jewishnaples.org/calendar/calendar16810\n\nJHSSWFL - Jewish History Mont
 h Event
DTSTART;TZID=America/New_York:20160106T140000
DTEND;TZID=America/New_York:20160106T190000
END:VEVENT
END:VCALENDAR
