BEGIN:VCALENDAR
PRODID:-//eluceo/ical//2.0/EN
VERSION:2.0
CALSCALE:GREGORIAN
BEGIN:VEVENT
UID:b25ea625815662e90e5d40c6c5dafdab
DTSTAMP:20260422T152307Z
SUMMARY:JCMI  Bridge
DESCRIPTION:Jewish Federation of Greater Naples\nCommunity Calendar\nhttps:
 //jewishnaples.org/calendar/calendar16807\n\nJCMI  Bridge
DTSTART;TZID=America/New_York:20160106T130000
DTEND;TZID=America/New_York:20160106T130000
END:VEVENT
END:VCALENDAR
