BEGIN:VCALENDAR
PRODID:-//eluceo/ical//2.0/EN
VERSION:2.0
CALSCALE:GREGORIAN
BEGIN:VEVENT
UID:ed84ee7478aed0b42721015586ab9818
DTSTAMP:20260422T153232Z
SUMMARY:JFCC Executive Board Meeting
DESCRIPTION:Jewish Federation of Greater Naples\nCommunity Calendar\nhttps:
 //jewishnaples.org/calendar/calendar16804\n\nJFCC Executive Board Meeting
DTSTART;TZID=America/New_York:20160105T160000
DTEND;TZID=America/New_York:20160105T160000
END:VEVENT
END:VCALENDAR
