BEGIN:VCALENDAR
PRODID:-//eluceo/ical//2.0/EN
VERSION:2.0
CALSCALE:GREGORIAN
BEGIN:VEVENT
UID:703173d9263460eb9b71db85353ebedf
DTSTAMP:20260423T081651Z
SUMMARY:BT  Rabbi's Study Course
DESCRIPTION:Jewish Federation of Greater Naples\nCommunity Calendar\nhttps:
 //jewishnaples.org/calendar/calendar16803\n\nBT  Rabbi's Study Course
DTSTART;TZID=America/New_York:20160105T160000
DTEND;TZID=America/New_York:20160105T160000
END:VEVENT
END:VCALENDAR
