BEGIN:VCALENDAR
PRODID:-//eluceo/ical//2.0/EN
VERSION:2.0
CALSCALE:GREGORIAN
BEGIN:VEVENT
UID:86d95ab55750f362982a9adb8c0cde12
DTSTAMP:20260419T231230Z
SUMMARY:JCMI   Duplicate Bridge
DESCRIPTION:Jewish Federation of Greater Naples\nCommunity Calendar\nhttps:
 //jewishnaples.org/calendar/calendar16801\n\nJCMI   Duplicate Bridge
DTSTART;TZID=America/New_York:20160105T130000
DTEND;TZID=America/New_York:20160105T130000
END:VEVENT
END:VCALENDAR
