BEGIN:VCALENDAR
PRODID:-//eluceo/ical//2.0/EN
VERSION:2.0
CALSCALE:GREGORIAN
BEGIN:VEVENT
UID:0954b0efb08a20bec8eaf48a55042151
DTSTAMP:20260422T061231Z
SUMMARY:BT Youth Education
DESCRIPTION:Jewish Federation of Greater Naples\nCommunity Calendar\nhttps:
 //jewishnaples.org/calendar/calendar168\n\n&nbsp
DTSTART;TZID=America/New_York:20140921T090000
DTEND;TZID=America/New_York:20140921T090000
END:VEVENT
END:VCALENDAR
