BEGIN:VCALENDAR
PRODID:-//eluceo/ical//2.0/EN
VERSION:2.0
CALSCALE:GREGORIAN
BEGIN:VEVENT
UID:9745b14aac026a6adfced8eed8ae435f
DTSTAMP:20260423T210748Z
SUMMARY:JCMI  Bingo
DESCRIPTION:Jewish Federation of Greater Naples\nCommunity Calendar\nhttps:
 //jewishnaples.org/calendar/calendar16796\n\nJCMI  Bingo
DTSTART;TZID=America/New_York:20160104T173000
DTEND;TZID=America/New_York:20160104T173000
END:VEVENT
END:VCALENDAR
