BEGIN:VCALENDAR
PRODID:-//eluceo/ical//2.0/EN
VERSION:2.0
CALSCALE:GREGORIAN
BEGIN:VEVENT
UID:8082388ef521ea27487df4f76ad1d5b6
DTSTAMP:20260424T104818Z
SUMMARY:BT  Sunday School
DESCRIPTION:Jewish Federation of Greater Naples\nCommunity Calendar\nhttps:
 //jewishnaples.org/calendar/calendar16790\n\nBT  Sunday School
DTSTART;TZID=America/New_York:20160103T090000
DTEND;TZID=America/New_York:20160103T090000
END:VEVENT
END:VCALENDAR
