BEGIN:VCALENDAR
PRODID:-//eluceo/ical//2.0/EN
VERSION:2.0
CALSCALE:GREGORIAN
BEGIN:VEVENT
UID:9028ba864a2298b774af848ae370e34e
DTSTAMP:20260423T112613Z
SUMMARY:JCMI  Shabbat Services
DESCRIPTION:Jewish Federation of Greater Naples\nCommunity Calendar\nhttps:
 //jewishnaples.org/calendar/calendar16788\n\nJCMI  Shabbat Services
DTSTART;TZID=America/New_York:20160102T100000
DTEND;TZID=America/New_York:20160102T100000
END:VEVENT
END:VCALENDAR
