BEGIN:VCALENDAR
PRODID:-//eluceo/ical//2.0/EN
VERSION:2.0
CALSCALE:GREGORIAN
BEGIN:VEVENT
UID:54a587c08902898c201f448c1c5a2774
DTSTAMP:20260424T023059Z
SUMMARY:BT Service
DESCRIPTION:Jewish Federation of Greater Naples\nCommunity Calendar\nhttps:
 //jewishnaples.org/calendar/calendar16781\n\nBT Service
DTSTART;TZID=America/New_York:20160101T181500
DTEND;TZID=America/New_York:20160101T181500
END:VEVENT
END:VCALENDAR
