BEGIN:VCALENDAR
PRODID:-//eluceo/ical//2.0/EN
VERSION:2.0
CALSCALE:GREGORIAN
BEGIN:VEVENT
UID:fae60a2f229d8004db53a5444fe069b9
DTSTAMP:20260423T153029Z
SUMMARY:TS Table Shabbat
DESCRIPTION:Jewish Federation of Greater Naples\nCommunity Calendar\nhttps:
 //jewishnaples.org/calendar/calendar16780\n\nTS Table Shabbat
DTSTART;TZID=America/New_York:20160101T173000
DTEND;TZID=America/New_York:20160101T173000
END:VEVENT
END:VCALENDAR
