BEGIN:VCALENDAR
PRODID:-//eluceo/ical//2.0/EN
VERSION:2.0
CALSCALE:GREGORIAN
BEGIN:VEVENT
UID:a9adf20ed55111c34da9f467d79536ad
DTSTAMP:20260423T114219Z
SUMMARY:TS  Offices Closed
DESCRIPTION:Jewish Federation of Greater Naples\nCommunity Calendar\nhttps:
 //jewishnaples.org/calendar/calendar16779\n\nTS  Offices Closed
DTSTART;TZID=America/New_York:20160101T090000
DTEND;TZID=America/New_York:20160101T090000
END:VEVENT
END:VCALENDAR
