BEGIN:VCALENDAR
PRODID:-//eluceo/ical//2.0/EN
VERSION:2.0
CALSCALE:GREGORIAN
BEGIN:VEVENT
UID:3d52d5b34326088fabb9accfe9c67675
DTSTAMP:20260423T145435Z
SUMMARY:JFCC OFFICES CLOSED  in Observance of New Year's Day
DESCRIPTION:Jewish Federation of Greater Naples\nCommunity Calendar\nhttps:
 //jewishnaples.org/calendar/calendar16778\n\nJFCC OFFICES CLOSED  in Obser
 vance of New Year's Day
DTSTART;TZID=America/New_York:20160101T080000
DTEND;TZID=America/New_York:20160101T090000
END:VEVENT
END:VCALENDAR
