BEGIN:VCALENDAR
PRODID:-//eluceo/ical//2.0/EN
VERSION:2.0
CALSCALE:GREGORIAN
BEGIN:VEVENT
UID:134c900801639179e4d7b297863a0ba0
DTSTAMP:20260423T211436Z
SUMMARY:New Year's Day
DESCRIPTION:Jewish Federation of Greater Naples\nCommunity Calendar\nhttps:
 //jewishnaples.org/calendar/calendar16777\n\nNew Year's Day
DTSTART;TZID=America/New_York:20160101T000000
DTEND;TZID=America/New_York:20160102T000000
END:VEVENT
END:VCALENDAR
