BEGIN:VCALENDAR
PRODID:-//eluceo/ical//2.0/EN
VERSION:2.0
CALSCALE:GREGORIAN
BEGIN:VEVENT
UID:99f03e67ed8ea4f6ba11ebdc660bf344
DTSTAMP:20260422T223212Z
SUMMARY:CHA  Men's Club
DESCRIPTION:Jewish Federation of Greater Naples\nCommunity Calendar\nhttps:
 //jewishnaples.org/calendar/calendar16773\n\nCHA  Men's Club
DTSTART;TZID=America/New_York:20151231T113000
DTEND;TZID=America/New_York:20151231T113000
END:VEVENT
END:VCALENDAR
