BEGIN:VCALENDAR
PRODID:-//eluceo/ical//2.0/EN
VERSION:2.0
CALSCALE:GREGORIAN
BEGIN:VEVENT
UID:dc7321f197bd33e48c75fcc6ba9ef14c
DTSTAMP:20260421T014736Z
SUMMARY:BT  Rabbi's Study Course
DESCRIPTION:Jewish Federation of Greater Naples\nCommunity Calendar\nhttps:
 //jewishnaples.org/calendar/calendar16771\n\nBT  Rabbi's Study Course
DTSTART;TZID=America/New_York:20151230T193000
DTEND;TZID=America/New_York:20151230T193000
END:VEVENT
END:VCALENDAR
