BEGIN:VCALENDAR
PRODID:-//eluceo/ical//2.0/EN
VERSION:2.0
CALSCALE:GREGORIAN
BEGIN:VEVENT
UID:81e2a6a5312ce178b56525d8e55ef820
DTSTAMP:20260423T101226Z
SUMMARY:JCMI   Duplicate Bridge
DESCRIPTION:Jewish Federation of Greater Naples\nCommunity Calendar\nhttps:
 //jewishnaples.org/calendar/calendar16766\n\nJCMI   Duplicate Bridge
DTSTART;TZID=America/New_York:20151229T130000
DTEND;TZID=America/New_York:20151229T130000
END:VEVENT
END:VCALENDAR
