BEGIN:VCALENDAR
PRODID:-//eluceo/ical//2.0/EN
VERSION:2.0
CALSCALE:GREGORIAN
BEGIN:VEVENT
UID:db1246c7e69700810882af8c852fe497
DTSTAMP:20260423T031654Z
SUMMARY:TS  Preschool Winter Break  12/21/15 - 1/5/16
DESCRIPTION:Jewish Federation of Greater Naples\nCommunity Calendar\nhttps:
 //jewishnaples.org/calendar/calendar16762\n\nTS  Preschool Winter Break  1
 2/21/15 - 1/5/16
DTSTART;TZID=America/New_York:20151228T090000
DTEND;TZID=America/New_York:20151228T090000
END:VEVENT
END:VCALENDAR
