BEGIN:VCALENDAR
PRODID:-//eluceo/ical//2.0/EN
VERSION:2.0
CALSCALE:GREGORIAN
BEGIN:VEVENT
UID:61657b1a828e4825bc616924ff25a4fa
DTSTAMP:20260420T223217Z
SUMMARY:NJC : Sunday Afternoon Movie
DESCRIPTION:Jewish Federation of Greater Naples\nCommunity Calendar\nhttps:
 //jewishnaples.org/calendar/calendar16761\n\nNJC : Sunday Afternoon Movie
DTSTART;TZID=America/New_York:20151227T150000
DTEND;TZID=America/New_York:20151227T150000
END:VEVENT
END:VCALENDAR
