BEGIN:VCALENDAR
PRODID:-//eluceo/ical//2.0/EN
VERSION:2.0
CALSCALE:GREGORIAN
BEGIN:VEVENT
UID:fba391b0017ea49cd1e5b4c8a8db146c
DTSTAMP:20260422T084049Z
SUMMARY:TS Services
DESCRIPTION:Jewish Federation of Greater Naples\nCommunity Calendar\nhttps:
 //jewishnaples.org/calendar/calendar16754\n\nTS Services
DTSTART;TZID=America/New_York:20151225T193000
DTEND;TZID=America/New_York:20151225T193000
END:VEVENT
END:VCALENDAR
