BEGIN:VCALENDAR
PRODID:-//eluceo/ical//2.0/EN
VERSION:2.0
CALSCALE:GREGORIAN
BEGIN:VEVENT
UID:5e45034918a35f3470fcd0dfff615524
DTSTAMP:20260423T043614Z
SUMMARY:BT Service
DESCRIPTION:Jewish Federation of Greater Naples\nCommunity Calendar\nhttps:
 //jewishnaples.org/calendar/calendar16752\n\nBT Service
DTSTART;TZID=America/New_York:20151225T181500
DTEND;TZID=America/New_York:20151225T181500
END:VEVENT
END:VCALENDAR
