BEGIN:VCALENDAR
PRODID:-//eluceo/ical//2.0/EN
VERSION:2.0
CALSCALE:GREGORIAN
BEGIN:VEVENT
UID:6d312f40b99c4315602bb5e6a60a5324
DTSTAMP:20260423T085909Z
SUMMARY:JFCC OFFICES CLOSED in Observance of the National Holiday
DESCRIPTION:Jewish Federation of Greater Naples\nCommunity Calendar\nhttps:
 //jewishnaples.org/calendar/calendar16750\n\nJFCC OFFICES CLOSED in Observ
 ance of the National Holiday
DTSTART;TZID=America/New_York:20151225T080000
DTEND;TZID=America/New_York:20151225T090000
END:VEVENT
END:VCALENDAR
