BEGIN:VCALENDAR
PRODID:-//eluceo/ical//2.0/EN
VERSION:2.0
CALSCALE:GREGORIAN
BEGIN:VEVENT
UID:0e0386d3fd38999bd618b9f59f7705e1
DTSTAMP:20260424T030903Z
SUMMARY:JCMI  Mah Jongg
DESCRIPTION:Jewish Federation of Greater Naples\nCommunity Calendar\nhttps:
 //jewishnaples.org/calendar/calendar16744\n\nJCMI  Mah Jongg
DTSTART;TZID=America/New_York:20151224T110000
DTEND;TZID=America/New_York:20151224T110000
END:VEVENT
END:VCALENDAR
