BEGIN:VCALENDAR
PRODID:-//eluceo/ical//2.0/EN
VERSION:2.0
CALSCALE:GREGORIAN
BEGIN:VEVENT
UID:5dcff93e45e1ac84cbaad077ef8bcac5
DTSTAMP:20260421T234427Z
SUMMARY:BT  Rabbi's Study Course
DESCRIPTION:Jewish Federation of Greater Naples\nCommunity Calendar\nhttps:
 //jewishnaples.org/calendar/calendar16738\n\nBT  Rabbi's Study Course
DTSTART;TZID=America/New_York:20151222T160000
DTEND;TZID=America/New_York:20151222T160000
END:VEVENT
END:VCALENDAR
