BEGIN:VCALENDAR
PRODID:-//eluceo/ical//2.0/EN
VERSION:2.0
CALSCALE:GREGORIAN
BEGIN:VEVENT
UID:56c36870c3fe59d4983d058b0fb345a1
DTSTAMP:20260423T081418Z
SUMMARY:JCMI  Bingo
DESCRIPTION:Jewish Federation of Greater Naples\nCommunity Calendar\nhttps:
 //jewishnaples.org/calendar/calendar16735\n\nJCMI  Bingo
DTSTART;TZID=America/New_York:20151221T173000
DTEND;TZID=America/New_York:20151221T173000
END:VEVENT
END:VCALENDAR
