BEGIN:VCALENDAR
PRODID:-//eluceo/ical//2.0/EN
VERSION:2.0
CALSCALE:GREGORIAN
BEGIN:VEVENT
UID:7a18ed960c0e968422d795e9216c926c
DTSTAMP:20260423T144533Z
SUMMARY:NJC Sisterhood Book CLub
DESCRIPTION:Jewish Federation of Greater Naples\nCommunity Calendar\nhttps:
 //jewishnaples.org/calendar/calendar16733\n\nNJC Sisterhood Book CLub
DTSTART;TZID=America/New_York:20151221T120000
DTEND;TZID=America/New_York:20151221T120000
END:VEVENT
END:VCALENDAR
