BEGIN:VCALENDAR
PRODID:-//eluceo/ical//2.0/EN
VERSION:2.0
CALSCALE:GREGORIAN
BEGIN:VEVENT
UID:80b2ede7a77c7a1022f24ee1c0e94271
DTSTAMP:20260424T051150Z
SUMMARY:BT Sunday Minyan
DESCRIPTION:Jewish Federation of Greater Naples\nCommunity Calendar\nhttps:
 //jewishnaples.org/calendar/calendar16727\n\nBT Sunday Minyan
DTSTART;TZID=America/New_York:20151220T090000
DTEND;TZID=America/New_York:20151220T090000
END:VEVENT
END:VCALENDAR
