BEGIN:VCALENDAR
PRODID:-//eluceo/ical//2.0/EN
VERSION:2.0
CALSCALE:GREGORIAN
BEGIN:VEVENT
UID:10dc7f5bab24724ec3ff69cd9bdd363b
DTSTAMP:20260423T091233Z
SUMMARY:TS Services
DESCRIPTION:Jewish Federation of Greater Naples\nCommunity Calendar\nhttps:
 //jewishnaples.org/calendar/calendar16722\n\nTS Services
DTSTART;TZID=America/New_York:20151218T193000
DTEND;TZID=America/New_York:20151218T193000
END:VEVENT
END:VCALENDAR
