BEGIN:VCALENDAR
PRODID:-//eluceo/ical//2.0/EN
VERSION:2.0
CALSCALE:GREGORIAN
BEGIN:VEVENT
UID:0d224af376426c4aec5ee465459bc573
DTSTAMP:20260421T223904Z
SUMMARY:BBYO  Youth Activity
DESCRIPTION:Jewish Federation of Greater Naples\nCommunity Calendar\nhttps:
 //jewishnaples.org/calendar/calendar16719\n\nBBYO  Youth Activity
DTSTART;TZID=America/New_York:20151217T180000
DTEND;TZID=America/New_York:20151217T180000
END:VEVENT
END:VCALENDAR
