BEGIN:VCALENDAR
PRODID:-//eluceo/ical//2.0/EN
VERSION:2.0
CALSCALE:GREGORIAN
BEGIN:VEVENT
UID:9d2bea0a846a2896d0ded44573e9897b
DTSTAMP:20260424T064640Z
SUMMARY:Rosh Chodesh
DESCRIPTION:Jewish Federation of Greater Naples\nCommunity Calendar\nhttps:
 //jewishnaples.org/calendar/calendar16712\n\nRosh Chodesh
DTSTART;TZID=America/New_York:20151217T000000
DTEND;TZID=America/New_York:20151218T000000
END:VEVENT
END:VCALENDAR
